BEGIN:VCALENDAR
METHOD:PUBLISH
PRODID:-//Trifolion Event
VERSION:2.0
BEGIN:VEVENT
SEQUENCE:0
DTSTART:20210605T080000Z
DTEND:20210605T093000Z
SUMMARY:Bürstenflitzer - Bau Dir Deinen eigenen Mini-Roboter
DESCRIPTION:Déi kleng Fuerscher
LOCATION:Konferenzraum D
UID:trifolion_event_1138
END:VEVENT
END:VCALENDAR