BEGIN:VCALENDAR
METHOD:PUBLISH
PRODID:-//Trifolion Event
VERSION:2.0
BEGIN:VEVENT
SEQUENCE:0
DTSTART:20191207T160000Z
DTEND:20191207T175000Z
SUMMARY:Die Schöne und das Biest
DESCRIPTION:Handlungsballett nach dem bekannten Märchen
LOCATION:Atrium 
UID:trifolion_event_679
END:VEVENT
END:VCALENDAR