BEGIN:VCALENDAR
METHOD:PUBLISH
PRODID:-//Trifolion Event
VERSION:2.0
BEGIN:VEVENT
SEQUENCE:0
DTSTART:20200630T070000Z
DTEND:20200701T150000Z
SUMMARY:ETT 2020: Adobe InDesign in der Praxis - Einstieg in die Welt der Layoutprogramme - VERLEGT
DESCRIPTION:Das Seminar muss leider verlegt werden. Mehr Informationen folgen in Kürze.
LOCATION:Konferenzraum D
UID:trifolion_event_973
END:VEVENT
END:VCALENDAR