BEGIN:VCALENDAR
METHOD:PUBLISH
PRODID:-//Trifolion Event
VERSION:2.0
BEGIN:VEVENT
SEQUENCE:0
DTSTART:20201006T070000Z
DTEND:20201007T150000Z
SUMMARY:ETT 2020: Bildbearbeitung mit Adobe Photoshop
DESCRIPTION:Zwei-Tages-Seminar | 06. - 07.10.2020
LOCATION:Konferenzraum D
UID:trifolion_event_977
END:VEVENT
END:VCALENDAR