BEGIN:VCALENDAR
METHOD:PUBLISH
PRODID:-//Trifolion Event
VERSION:2.0
BEGIN:VEVENT
SEQUENCE:0
DTSTART:20201118T080000Z
DTEND:20201118T160000Z
SUMMARY:ETT 2020: Die Designklinik - Gestaltungsprobleme erkennen, verbessern und selbst gut gestalten
DESCRIPTION:
LOCATION:Konferenzraum D
UID:trifolion_event_979
END:VEVENT
END:VCALENDAR