BEGIN:VCALENDAR
METHOD:PUBLISH
PRODID:-//Trifolion Event
VERSION:2.0
BEGIN:VEVENT
SEQUENCE:0
DTSTART:20200513T080000Z
DTEND:20200513T094500Z
SUMMARY:WEBINAR - ETT 2020: Krisenkommunikation 2.0
DESCRIPTION:Exklusives Webinar zum Thema Krisenkommunikation, wobei nicht nur die Kommunikation in der Krise, sondern auch das „Danach“, der Ausgang & Ausstieg aus der Krise in Augenschein genommen wird.
LOCATION:Online-Seminar
UID:trifolion_event_969
END:VEVENT
END:VCALENDAR