BEGIN:VCALENDAR
METHOD:PUBLISH
PRODID:-//Trifolion Event
VERSION:2.0
BEGIN:VEVENT
SEQUENCE:0
DTSTART:20210128T070000Z
DTEND:20210128T150000Z
SUMMARY:ETT 2020: Tourist Information, die neue Herausforderung
DESCRIPTION:
LOCATION:Konferenzraum D
UID:trifolion_event_981
END:VEVENT
END:VCALENDAR