BEGIN:VCALENDAR
METHOD:PUBLISH
PRODID:-//Trifolion Event
VERSION:2.0
BEGIN:VEVENT
SEQUENCE:0
DTSTART:20200422T060000Z
DTEND:20200422T140000Z
SUMMARY:ETT 2020: Wie sie das Thema Ökologie für Gäste kommunizieren - ABGESAGT
DESCRIPTION:Das Seminar musste leider abgesagt werden. Ein Nachholtermin ist momentan nicht vorgesehen.
LOCATION:Konferenzraum D
UID:trifolion_event_971
END:VEVENT
END:VCALENDAR