BEGIN:VCALENDAR
METHOD:PUBLISH
PRODID:-//Trifolion Event
VERSION:2.0
BEGIN:VEVENT
SEQUENCE:0
DTSTART:20180226T090000Z
DTEND:20180226T095000Z
SUMMARY:Fenrir, de Risewollef
DESCRIPTION:Musek an Danztheater fir Kanner no enger nordescher So fir Saxophon, Tonband an en Dänzer

LOCATION:Agora
UID:trifolion_event_339
END:VEVENT
END:VCALENDAR