BEGIN:VCALENDAR
METHOD:PUBLISH
PRODID:-//Trifolion Event
VERSION:2.0
BEGIN:VEVENT
SEQUENCE:0
DTSTART:20201016T180000Z
DTEND:20201016T190500Z
SUMMARY:Fënsterdall vum Pol Greisch - AUSVERKAUFT
DESCRIPTION:Die Veranstaltung musste vom 02.04.2020 auf den 16.10.2020 verlegt werden. Tickets behalten ihre Gültigkeit für den Ersatztermin.
LOCATION:Agora
UID:trifolion_event_885
END:VEVENT
END:VCALENDAR