BEGIN:VCALENDAR
METHOD:PUBLISH
PRODID:-//Trifolion Event
VERSION:2.0
BEGIN:VEVENT
SEQUENCE:0
DTSTART:20170507T130000Z
DTEND:20170507T143500Z
SUMMARY:Feuerwehrmann Sam Live!
DESCRIPTION:Theater auf Tour in Kooperation mit Van Hooerne Entertainment, Holland.
LOCATION:Atrium
UID:trifolion_event_72
END:VEVENT
END:VCALENDAR