BEGIN:VCALENDAR
METHOD:PUBLISH
PRODID:-//Trifolion Event
VERSION:2.0
BEGIN:VEVENT
SEQUENCE:0
DTSTART:20200801T150000Z
DTEND:20200801T165000Z
SUMMARY:Figurentheater Favoletta - Harzer Puppenbühne: In 80 Tagen um die Welt
DESCRIPTION:Für Kinder ab 10 Jahren und Erwachsene
LOCATION:Agora
UID:trifolion_event_923
END:VEVENT
END:VCALENDAR