BEGIN:VCALENDAR
METHOD:PUBLISH
PRODID:-//Trifolion Event
VERSION:2.0
BEGIN:VEVENT
SEQUENCE:0
DTSTART:20171015T140000Z
DTEND:20171015T144500Z
SUMMARY:Goldmädchen
DESCRIPTION:Poetisches Bewegungstheater des TRAFFIK THEATER Luxembourg mit musikalischen Auszügen aus Werken von u.a. Vivaldi, Strawinsky, Bach 
LOCATION:Agora
UID:trifolion_event_329
END:VEVENT
END:VCALENDAR