BEGIN:VCALENDAR
METHOD:PUBLISH
PRODID:-//Trifolion Event
VERSION:2.0
BEGIN:VEVENT
SEQUENCE:0
DTSTART:20180201T190000Z
DTEND:20180201T210000Z
SUMMARY:Hermann Simon liest aus: Untergetaucht - Eine junge Frau überlebt in Berlin 1940 - 1945
DESCRIPTION:Berlin 1942: Die Verhaftung durch die Gestapo steht unmittelbar bevor. Die junge Marie Jalowicz will leben und taucht unter. Über 50 Jahre danach erzählt Marie Jalowicz Simon erstmals ihre ganze Geschichte. 77 Tonbänder entstehen – sie sind die Grundlage dieses einzigartigen Zeitdokuments.
LOCATION:Atrium 
UID:trifolion_event_51
END:VEVENT
END:VCALENDAR