BEGIN:VCALENDAR
METHOD:PUBLISH
PRODID:-//Trifolion Event
VERSION:2.0
BEGIN:VEVENT
SEQUENCE:0
DTSTART:20200423T180000Z
DTEND:20200423T200000Z
SUMMARY:Johann König - Jubel, Trubel, Heiserkeit - VERLEGT
DESCRIPTION:Die Veranstaltung muss leider auf den 20.02.2021 verlegt werden. Tickets behalten ihre Gültigkeit für den Ersatztermin. Eine Rückerstattung ist an den jeweiligen Vorverkaufsstellen möglich.
LOCATION:Atrium&nbsp;&nbsp;·&nbsp;&nbsp;Veranstalter: Popp Concerts
UID:trifolion_event_839
END:VEVENT
END:VCALENDAR