BEGIN:VCALENDAR
METHOD:PUBLISH
PRODID:-//Trifolion Event
VERSION:2.0
BEGIN:VEVENT
SEQUENCE:0
DTSTART:20180127T190000Z
DTEND:20180127T210000Z
SUMMARY:Konzert zum Internationalen Holocaust Gedenktag
DESCRIPTION:

LOCATION:Atrium 
UID:trifolion_event_365
END:VEVENT
END:VCALENDAR