BEGIN:VCALENDAR
METHOD:PUBLISH
PRODID:-//Trifolion Event
VERSION:2.0
BEGIN:VEVENT
SEQUENCE:0
DTSTART:20180220T190000Z
DTEND:20180220T210000Z
SUMMARY:Mitten unter uns - Die Schicksalsgeschichte der Familie Juda
DESCRIPTION:Von Henri Juda
LOCATION:Agora
UID:trifolion_event_415
END:VEVENT
END:VCALENDAR