BEGIN:VCALENDAR
METHOD:PUBLISH
PRODID:-//Trifolion Event
VERSION:2.0
BEGIN:VEVENT
SEQUENCE:0
DTSTART:20170408T170000Z
DTEND:20170408T185000Z
SUMMARY:Music's cool - Vun Do bis Do
DESCRIPTION:Die Kinder der Krabbelmusik, dem Eveil Musical und der Formation Musicale/Solfège, laden Sie sehr herzlich ein auf eine musikalische und erlebnisreiche Reise des Musikkaters „Musekskueder“.
LOCATION:Atrium
UID:trifolion_event_239
END:VEVENT
END:VCALENDAR