BEGIN:VCALENDAR
METHOD:PUBLISH
PRODID:-//Trifolion Event
VERSION:2.0
BEGIN:VEVENT
SEQUENCE:0
DTSTART:20181019T180000Z
DTEND:20181019T200000Z
SUMMARY:Musique Militaire Grand-Ducale
DESCRIPTION:
LOCATION:Atrium
UID:trifolion_event_623
END:VEVENT
END:VCALENDAR