BEGIN:VCALENDAR
METHOD:PUBLISH
PRODID:-//Trifolion Event
VERSION:2.0
BEGIN:VEVENT
SEQUENCE:0
DTSTART:20200910T170000Z
DTEND:20200910T183000Z
SUMMARY:Präsentation der Saison 2020/21
DESCRIPTION:
LOCATION:Atrium
UID:trifolion_event_1156
END:VEVENT
END:VCALENDAR