BEGIN:VCALENDAR
METHOD:PUBLISH
PRODID:-//Trifolion Event
VERSION:2.0
BEGIN:VEVENT
SEQUENCE:0
DTSTART:20171115T120000Z
DTEND:20171115T200000Z
SUMMARY:Psychart - 6. Symposium iwwer Konscht a Psychiatrie
DESCRIPTION:
LOCATION:Atrium 
UID:trifolion_event_435
END:VEVENT
END:VCALENDAR