BEGIN:VCALENDAR
METHOD:PUBLISH
PRODID:-//Trifolion Event
VERSION:2.0
BEGIN:VEVENT
SEQUENCE:0
DTSTART:20190120T190000Z
DTEND:20190120T212000Z
SUMMARY:Rhythm of the Dance - Celebrating 20 Years
DESCRIPTION:Die Jubiläumstournee - 20th Anniversary:
Über 7 Millionen Fans weltweit stehen für das 20 Jährige Jubiläum von Rhythm of the Dance!

LOCATION:Atrium 
UID:trifolion_event_579
END:VEVENT
END:VCALENDAR