BEGIN:VCALENDAR
METHOD:PUBLISH
PRODID:-//Trifolion Event
VERSION:2.0
BEGIN:VEVENT
SEQUENCE:0
DTSTART:20191116T140000Z
DTEND:20191116T164000Z
SUMMARY:Russian Classical Ballet: „Schwanensee“ - Zusatzshow
DESCRIPTION:Ballett in zwei Akten und vier Szenen
LOCATION:Atrium 
UID:trifolion_event_867
END:VEVENT
END:VCALENDAR