BEGIN:VCALENDAR
METHOD:PUBLISH
PRODID:-//Trifolion Event
VERSION:2.0
BEGIN:VEVENT
SEQUENCE:0
DTSTART:20171117T090000Z
DTEND:20171117T100000Z
SUMMARY:Superhelden der Musik
DESCRIPTION:Ein Mitmachkonzert mit Musik von Wolfgang Amadeus Mozart
LOCATION:Atrium 
UID:trifolion_event_279
END:VEVENT
END:VCALENDAR