BEGIN:VCALENDAR
METHOD:PUBLISH
PRODID:-//Trifolion Event
VERSION:2.0
BEGIN:VEVENT
SEQUENCE:0
DTSTART:20180325T140000Z
DTEND:20180325T170000Z
SUMMARY:Thé Dansant
DESCRIPTION:Mam Jos Schartz & Yves Schmartz
LOCATION:Agora
UID:trifolion_event_515
END:VEVENT
END:VCALENDAR