BEGIN:VCALENDAR
METHOD:PUBLISH
PRODID:-//Trifolion Event
VERSION:2.0
BEGIN:VEVENT
SEQUENCE:0
DTSTART:20200911T150000Z
DTEND:20200911T180000Z
SUMMARY:Trifo Apéro: Anik Schwall & Daniel Lang
DESCRIPTION:Drinks & Live Music
LOCATION:Foyer
UID:trifolion_event_1150
END:VEVENT
END:VCALENDAR