BEGIN:VCALENDAR
METHOD:PUBLISH
PRODID:-//Trifolion Event
VERSION:2.0
BEGIN:VEVENT
SEQUENCE:0
DTSTART:20200904T150000Z
DTEND:20200904T180000Z
SUMMARY:Trifo Apéro: Mathieu Clement „SPACE“
DESCRIPTION:Drinks & Live Music
LOCATION:Foyer
UID:trifolion_event_1148
END:VEVENT
END:VCALENDAR