BEGIN:VCALENDAR
METHOD:PUBLISH
PRODID:-//Trifolion Event
VERSION:2.0
BEGIN:VEVENT
SEQUENCE:0
DTSTART:20181106T180000Z
DTEND:20181106T210000Z
SUMMARY:Vernissage zur Ausstellung Charly Schleder: Schottland - Licht und Landschaft
DESCRIPTION:
LOCATION:Foyer
UID:trifolion_event_585
END:VEVENT
END:VCALENDAR